BEGIN:VCALENDAR
VERSION:2.0
PRODID:-//Smolak Farms - ECPv6.15.20//NONSGML v1.0//EN
CALSCALE:GREGORIAN
METHOD:PUBLISH
X-WR-CALNAME:Smolak Farms
X-ORIGINAL-URL:https://www.smolakfarms.com
X-WR-CALDESC:Events for Smolak Farms
REFRESH-INTERVAL;VALUE=DURATION:PT1H
X-Robots-Tag:noindex
X-PUBLISHED-TTL:PT1H
BEGIN:VTIMEZONE
TZID:America/New_York
BEGIN:DAYLIGHT
TZOFFSETFROM:-0500
TZOFFSETTO:-0400
TZNAME:EDT
DTSTART:20230312T070000
END:DAYLIGHT
BEGIN:STANDARD
TZOFFSETFROM:-0400
TZOFFSETTO:-0500
TZNAME:EST
DTSTART:20231105T060000
END:STANDARD
BEGIN:DAYLIGHT
TZOFFSETFROM:-0500
TZOFFSETTO:-0400
TZNAME:EDT
DTSTART:20240310T070000
END:DAYLIGHT
BEGIN:STANDARD
TZOFFSETFROM:-0400
TZOFFSETTO:-0500
TZNAME:EST
DTSTART:20241103T060000
END:STANDARD
BEGIN:DAYLIGHT
TZOFFSETFROM:-0500
TZOFFSETTO:-0400
TZNAME:EDT
DTSTART:20250309T070000
END:DAYLIGHT
BEGIN:STANDARD
TZOFFSETFROM:-0400
TZOFFSETTO:-0500
TZNAME:EST
DTSTART:20251102T060000
END:STANDARD
END:VTIMEZONE
BEGIN:VEVENT
DTSTART;TZID=America/New_York:20240807T100000
DTEND;TZID=America/New_York:20240807T110000
DTSTAMP:20260419T231925
CREATED:20240727T192348Z
LAST-MODIFIED:20240727T192348Z
UID:21490-1723024800-1723028400@www.smolakfarms.com
SUMMARY:Story & Craft Featuring Daniel Tiger
DESCRIPTION:Join us for another one of our popular Story & Craft events! We’ll be reading ‘Daniel Goes to the Playground’ and making a Tiger Craft. \nTickets are $12 (per child and one adult) and include a donut\, story and craft\, a 10% off coupon for the farmstand\, and animal feed to give to the friendly farm animals in our animal area.
URL:https://www.smolakfarms.com/event/story-craft-featuring-daniel-tiger-2
LOCATION:Smolak Farms\, 315 South Bradford Street\, North Andover\, MA\, 01845\, United States
CATEGORIES:Festivals / Kids Activities
ATTACH;FMTTYPE=image/png:https://www.smolakfarms.com/wp-content/uploads/2024/07/Screen-Shot-2024-07-27-at-3.21.52-PM.png
END:VEVENT
BEGIN:VEVENT
DTSTART;TZID=America/New_York:20240802T100000
DTEND;TZID=America/New_York:20240802T110000
DTSTAMP:20260419T231925
CREATED:20240727T193918Z
LAST-MODIFIED:20240802T115440Z
UID:21512-1722592800-1722596400@www.smolakfarms.com
SUMMARY:Story and Craft Featuring Super Mario Bros
DESCRIPTION:Join us for another one of our popular Story & Craft events! We’ll be reading ‘Super Mario’ and making a Mario and Luigi craft \nTickets are $12 (per child and one adult) and include a donut\, some homemade lemonade\, story and craft\, a 10% off coupon for the farmstand\, and animal feed to give to the friendly farm animals in our animal area.
URL:https://www.smolakfarms.com/event/story-and-craft-featuring-super-mario-bros
LOCATION:Smolak Farms\, 315 South Bradford Street\, North Andover\, MA\, 01845\, United States
CATEGORIES:Festivals / Kids Activities
ATTACH;FMTTYPE=image/webp:https://www.smolakfarms.com/wp-content/uploads/2024/07/s209075358918803785_p4771_i1_w828.webp
END:VEVENT
BEGIN:VEVENT
DTSTART;TZID=America/New_York:20240724T100000
DTEND;TZID=America/New_York:20240724T110000
DTSTAMP:20260419T231925
CREATED:20240622T124225Z
LAST-MODIFIED:20240622T124225Z
UID:21080-1721815200-1721818800@www.smolakfarms.com
SUMMARY:Story and Craft: DIY Boats
DESCRIPTION:Join us for one of our most famous Story and Craft event. We will be reading ‘Pete the Cat and the Treasure Map and making wooden boats! \nTickets are $15 (per child and one adult) and include a donut\, a story\, all the supplies you need to DIY your own wooden boat \, a 10% off coupon for the farmstand\, and some animal feed to give to the friendly farm animals.
URL:https://www.smolakfarms.com/event/story-and-craft-diy-boats
LOCATION:Smolak Farms\, 315 South Bradford Street\, North Andover\, MA\, 01845\, United States
CATEGORIES:Farm Stand,Festivals / Kids Activities
ATTACH;FMTTYPE=image/jpeg:https://www.smolakfarms.com/wp-content/uploads/2024/06/s209075358918803785_p4677_i1_w1000.jpeg
END:VEVENT
BEGIN:VEVENT
DTSTART;VALUE=DATE:20240720
DTEND;VALUE=DATE:20240722
DTSTAMP:20260419T231925
CREATED:20240717T004245Z
LAST-MODIFIED:20240720T131225Z
UID:21335-1721433600-1721606399@www.smolakfarms.com
SUMMARY:Red\, White & Berry Blue Festival
DESCRIPTION:Get ready for a berry-licious time by joining us at Smolak Farms for the Red\, White & Berry Blue Festival on July 20-21! Enjoy delicious food from our grill under the big white tent\, fun hop-on hayride and cow train rides across the farm\, face painting\, frisbee spin art\, live music\, PYO Blueberries\, and a very special appearance by Bluey and a band of characters who will be giving out goodies all day long!
URL:https://www.smolakfarms.com/event/red-white-berry-festival-2
LOCATION:Smolak Farms\, 315 South Bradford Street\, North Andover\, MA\, 01845\, United States
CATEGORIES:Festivals / Kids Activities
ATTACH;FMTTYPE=image/png:https://www.smolakfarms.com/wp-content/uploads/2024/07/Red-Green-Festive-Watercolor-Strawberry-Summer-Party-Invitation-Flyer-Instagram-Post5.png
END:VEVENT
BEGIN:VEVENT
DTSTART;TZID=America/New_York:20240717T110000
DTEND;TZID=America/New_York:20240717T120000
DTSTAMP:20260419T231925
CREATED:20240622T123929Z
LAST-MODIFIED:20240630T233533Z
UID:21074-1721214000-1721217600@www.smolakfarms.com
SUMMARY:Ice Cream Sundae Activity
DESCRIPTION:Join us for one of our most famous activities: Ice Cream Sundaes \nTickets are $15 (per child and one adult) and includes an ice cream craft\, a small chocolate or vanilla ice cream\, tons of candy toppings for your treat\, and some animal feed to give to the friendly farm animals. \n*Each child will be given the supplies to make one sundae* \n*Ice cream flavors are a choice of chocolate or vanilla\, choice will be made at the time of the event* \n*All toppings will be nut-free\, although Smolak Farms is not a nut-free facility*
URL:https://www.smolakfarms.com/event/ice-cream-sundae-activity-2
LOCATION:Smolak Farms\, 315 South Bradford Street\, North Andover\, MA\, 01845\, United States
CATEGORIES:Farm Stand,Festivals / Kids Activities
ATTACH;FMTTYPE=image/png:https://www.smolakfarms.com/wp-content/uploads/2024/06/Screen-Shot-2024-06-22-at-8.37.51-AM.png
END:VEVENT
BEGIN:VEVENT
DTSTART;TZID=America/New_York:20240710T100000
DTEND;TZID=America/New_York:20240710T110000
DTSTAMP:20260419T231925
CREATED:20240622T124047Z
LAST-MODIFIED:20240622T124047Z
UID:21077-1720605600-1720609200@www.smolakfarms.com
SUMMARY:Minions Story and Craft
DESCRIPTION:Join us for another edition of our popular Story & Craft event! We’ll be reading ‘Minions’ and making a Minion Craft. \nTickets are $12 (per child and one adult) and include a donut\, story and craft\, a 10% off coupon for the farmstand\, and animal feed to give to the friendly farm animals in our animal area.
URL:https://www.smolakfarms.com/event/minions-story-and-craft
LOCATION:Smolak Farms\, 315 South Bradford Street\, North Andover\, MA\, 01845\, United States
CATEGORIES:Farm Stand,Festivals / Kids Activities
ATTACH;FMTTYPE=image/jpeg:https://www.smolakfarms.com/wp-content/uploads/2024/06/s209075358918803785_p4130_i1_w828.jpeg
END:VEVENT
BEGIN:VEVENT
DTSTART;TZID=America/New_York:20240703T100000
DTEND;TZID=America/New_York:20240703T110000
DTSTAMP:20260419T231925
CREATED:20240622T123729Z
LAST-MODIFIED:20240622T123729Z
UID:21071-1720000800-1720004400@www.smolakfarms.com
SUMMARY:Cookie Decorating: Red\, White\, and Blue
DESCRIPTION:Join us for another one of our popular Cookie Decorating Events! We’ll be reading ‘The Night Before the Fourth of July’ and decorating fourth of July cookies! \nTickets are $15 (per child and one adult) and include a\, story\, 4 sugar cookies and all the toppings you’ll need to decorate them\, a 10% off coupon for the farmstand\, and animal feed to give to the friendly farm animals in our animal area.
URL:https://www.smolakfarms.com/event/cookie-decorating-red-white-and-blue
LOCATION:Smolak Farms\, 315 South Bradford Street\, North Andover\, MA\, 01845\, United States
CATEGORIES:Farm Stand,Festivals / Kids Activities
ATTACH;FMTTYPE=image/jpeg:https://www.smolakfarms.com/wp-content/uploads/2024/06/s209075358918803785_p4675_i1_w1200.jpeg
END:VEVENT
BEGIN:VEVENT
DTSTART;TZID=America/New_York:20240616T110000
DTEND;TZID=America/New_York:20240616T120000
DTSTAMP:20260419T231925
CREATED:20240525T023617Z
LAST-MODIFIED:20240525T023617Z
UID:20858-1718535600-1718539200@www.smolakfarms.com
SUMMARY:Donuts With Dad
DESCRIPTION:Celebrate Father’s Day with a special morning at the farm! Join us for our Donuts With Dad event on Sunday\, June 16th from 11:00 AM to 12:00 PM.\n\n\nEach ticket includes:\n\n\n\n Two of our Famous Smolak Farms Cider Donuts (one for Dad\, one for the child)\n A juice pouch for the child\n A cup of coffee for Dad\n A DIY dad windchime to build together\n\n\n\nAll tickets must be pre-purchased. The event will take place under the tent across from the barn.
URL:https://www.smolakfarms.com/event/donuts-with-dad-2
LOCATION:Smolak Farms\, 315 South Bradford Street\, North Andover\, MA\, 01845\, United States
CATEGORIES:Education,Festivals / Kids Activities
ATTACH;FMTTYPE=image/png:https://www.smolakfarms.com/wp-content/uploads/2024/05/1-1.png
END:VEVENT
BEGIN:VEVENT
DTSTART;TZID=America/New_York:20240525T100000
DTEND;TZID=America/New_York:20240525T140000
DTSTAMP:20260419T231925
CREATED:20240525T023224Z
LAST-MODIFIED:20240525T023224Z
UID:20854-1716631200-1716645600@www.smolakfarms.com
SUMMARY:Hop-On Hayrides
DESCRIPTION:Take a scenic trip around the farm with us. Rides will be available on Saturday and Sunday from 10am to 2pm. Tickets are $7 per person and can be purchased inside the Farm Stand.
URL:https://www.smolakfarms.com/event/hop-on-hayrides-38
LOCATION:Smolak Farms\, 315 South Bradford Street\, North Andover\, MA\, 01845\, United States
CATEGORIES:Festivals / Kids Activities
ATTACH;FMTTYPE=image/png:https://www.smolakfarms.com/wp-content/uploads/2024/04/2022-Halloween-Theme.png
END:VEVENT
BEGIN:VEVENT
DTSTART;TZID=America/New_York:20240522T100000
DTEND;TZID=America/New_York:20240522T110000
DTSTAMP:20260419T231925
CREATED:20240427T193147Z
LAST-MODIFIED:20240427T193147Z
UID:20714-1716372000-1716375600@www.smolakfarms.com
SUMMARY:Story & Craft Featuring Curious George
DESCRIPTION:Join us for another one of our popular Story & Craft events! We’ll be reading ‘Curious George and the Ice Cream Surprise’ and making a Curious George craft. \nTickets are $12 (per child and one adult) and include a donut\, story and craft\, a 10% off coupon for the farmstand\, and animal feed to give to the friendly farm animals in our animal area.
URL:https://www.smolakfarms.com/event/story-craft-featuring-curious-george
LOCATION:Smolak Farms\, 315 South Bradford Street\, North Andover\, MA\, 01845\, United States
CATEGORIES:Festivals / Kids Activities
ATTACH;FMTTYPE=image/jpeg:https://www.smolakfarms.com/wp-content/uploads/2024/04/CuriousGeorge.jpg
END:VEVENT
BEGIN:VEVENT
DTSTART;TZID=America/New_York:20240515T080000
DTEND;TZID=America/New_York:20240515T170000
DTSTAMP:20260419T231925
CREATED:20240427T193557Z
LAST-MODIFIED:20240427T193557Z
UID:20721-1715760000-1715792400@www.smolakfarms.com
SUMMARY:Story & Craft Featuring the Three Billy Goats
DESCRIPTION:Join us for another one of our popular Story & Craft events! We’ll be reading ‘Three Billy Goats Gruff’ and making a goat craft. \nTickets are $12 (per child and one adult) and include a donut\, story and craft\, a 10% off coupon for the farmstand\, and animal feed to give to the friendly farm animals in our animal area.
URL:https://www.smolakfarms.com/event/story-craft-featuring-the-three-billy-goats
LOCATION:Smolak Farms\, 315 South Bradford Street\, North Andover\, MA\, 01845\, United States
CATEGORIES:Festivals / Kids Activities
ATTACH;FMTTYPE=image/jpeg:https://www.smolakfarms.com/wp-content/uploads/2024/04/Goats_StoryCraft.jpg
END:VEVENT
BEGIN:VEVENT
DTSTART;TZID=America/New_York:20240512T100000
DTEND;TZID=America/New_York:20240512T140000
DTSTAMP:20260419T231925
CREATED:20240427T192923Z
LAST-MODIFIED:20240427T192923Z
UID:20712-1715508000-1715522400@www.smolakfarms.com
SUMMARY:Hop-On Hayrides
DESCRIPTION:Take a scenic trip around the farm with us. Rides will be available on Saturday and Sunday from 10am to 2pm. Tickets are $7 per person and can be purchased inside the Farm Stand.
URL:https://www.smolakfarms.com/event/hop-on-hayrides-37
LOCATION:Smolak Farms\, 315 South Bradford Street\, North Andover\, MA\, 01845\, United States
CATEGORIES:Festivals / Kids Activities
ATTACH;FMTTYPE=image/png:https://www.smolakfarms.com/wp-content/uploads/2024/04/2022-Halloween-Theme.png
END:VEVENT
BEGIN:VEVENT
DTSTART;TZID=America/New_York:20240512T100000
DTEND;TZID=America/New_York:20240512T110000
DTSTAMP:20260419T231925
CREATED:20240429T021222Z
LAST-MODIFIED:20240429T021222Z
UID:20740-1715508000-1715511600@www.smolakfarms.com
SUMMARY:Mother's Day Breakfast
DESCRIPTION:Come and celebrate Mom and join us for a delicious Mother’s Day Breakfast at Smolak Farms from 10:30am-11:30am. \nTickets are $35 for children and adults and include the following: \n\nA Breakfast Buffet inclusive of eggs\, bacon\, assorted baked goods\, and fruit\nAccess to our Juice and Coffee station\n\nAll tickets must be pre-purchased\, no walk-ins or additional tickets will be available at the event. \nChildren under the age of 2 are free.
URL:https://www.smolakfarms.com/event/mothers-day-breakfast-3
LOCATION:Smolak Farms\, 315 South Bradford Street\, North Andover\, MA\, 01845\, United States
CATEGORIES:Festivals / Kids Activities
ATTACH;FMTTYPE=image/png:https://www.smolakfarms.com/wp-content/uploads/2024/04/1-13.png
END:VEVENT
BEGIN:VEVENT
DTSTART;TZID=America/New_York:20240508T100000
DTEND;TZID=America/New_York:20240508T110000
DTSTAMP:20260419T231925
CREATED:20240427T192606Z
LAST-MODIFIED:20240427T192606Z
UID:20700-1715162400-1715166000@www.smolakfarms.com
SUMMARY:Mother's Day Craft
DESCRIPTION:Come on out and enjoy and morning with Mom! \nEach ticket includes: \n\nTwo Smolak Farms Cider Donuts\nA juice pouch (for child)\nA cup of coffee (for mom)\nA mother’s Day craft\nAnimal feed to give to the friendly farm animals in our animal area.\n\nAll tickets must be pre-purchased. No Tickets will be available at the door.
URL:https://www.smolakfarms.com/event/mothers-day-craft
LOCATION:Smolak Farms\, 315 South Bradford Street\, North Andover\, MA\, 01845\, United States
CATEGORIES:Festivals / Kids Activities
ATTACH;FMTTYPE=image/png:https://www.smolakfarms.com/wp-content/uploads/2024/04/Smolak_MothersDay.png
END:VEVENT
BEGIN:VEVENT
DTSTART;TZID=America/New_York:20240505T100000
DTEND;TZID=America/New_York:20240505T140000
DTSTAMP:20260419T231925
CREATED:20240427T192846Z
LAST-MODIFIED:20240427T192846Z
UID:20709-1714903200-1714917600@www.smolakfarms.com
SUMMARY:Hop-On Hayrides
DESCRIPTION:Take a scenic trip around the farm with us. Rides will be available on Saturday and Sunday from 10am to 2pm. Tickets are $7 per person and can be purchased inside the Farm Stand.
URL:https://www.smolakfarms.com/event/hop-on-hayrides-36
LOCATION:Smolak Farms\, 315 South Bradford Street\, North Andover\, MA\, 01845\, United States
CATEGORIES:Festivals / Kids Activities
ATTACH;FMTTYPE=image/png:https://www.smolakfarms.com/wp-content/uploads/2024/04/2022-Halloween-Theme.png
END:VEVENT
BEGIN:VEVENT
DTSTART;TZID=America/New_York:20240504T100000
DTEND;TZID=America/New_York:20240504T140000
DTSTAMP:20260419T231925
CREATED:20240427T192828Z
LAST-MODIFIED:20240427T192828Z
UID:20707-1714816800-1714831200@www.smolakfarms.com
SUMMARY:Hop-On Hayrides
DESCRIPTION:Take a scenic trip around the farm with us. Rides will be available on Saturday and Sunday from 10am to 2pm. Tickets are $7 per person and can be purchased inside the Farm Stand.
URL:https://www.smolakfarms.com/event/hop-on-hayrides-35
LOCATION:Smolak Farms\, 315 South Bradford Street\, North Andover\, MA\, 01845\, United States
CATEGORIES:Festivals / Kids Activities
ATTACH;FMTTYPE=image/png:https://www.smolakfarms.com/wp-content/uploads/2024/04/2022-Halloween-Theme.png
END:VEVENT
BEGIN:VEVENT
DTSTART;TZID=America/New_York:20240428T100000
DTEND;TZID=America/New_York:20240428T140000
DTSTAMP:20260419T231925
CREATED:20240427T192812Z
LAST-MODIFIED:20240427T192812Z
UID:20705-1714298400-1714312800@www.smolakfarms.com
SUMMARY:Hop-On Hayrides
DESCRIPTION:Take a scenic trip around the farm with us. Rides will be available on Saturday and Sunday from 10am to 2pm. Tickets are $7 per person and can be purchased inside the Farm Stand.
URL:https://www.smolakfarms.com/event/hop-on-hayrides-34
LOCATION:Smolak Farms\, 315 South Bradford Street\, North Andover\, MA\, 01845\, United States
CATEGORIES:Festivals / Kids Activities
ATTACH;FMTTYPE=image/png:https://www.smolakfarms.com/wp-content/uploads/2024/04/2022-Halloween-Theme.png
END:VEVENT
BEGIN:VEVENT
DTSTART;TZID=America/New_York:20240427T100000
DTEND;TZID=America/New_York:20240427T140000
DTSTAMP:20260419T231925
CREATED:20240427T192752Z
LAST-MODIFIED:20240427T192752Z
UID:20703-1714212000-1714226400@www.smolakfarms.com
SUMMARY:Hop-On Hayrides
DESCRIPTION:Take a scenic trip around the farm with us. Rides will be available on Saturday and Sunday from 10am to 2pm. Tickets are $7 per person and can be purchased inside the Farm Stand.
URL:https://www.smolakfarms.com/event/hop-on-hayrides-33
LOCATION:Smolak Farms\, 315 South Bradford Street\, North Andover\, MA\, 01845\, United States
CATEGORIES:Festivals / Kids Activities
ATTACH;FMTTYPE=image/png:https://www.smolakfarms.com/wp-content/uploads/2024/04/2022-Halloween-Theme.png
END:VEVENT
BEGIN:VEVENT
DTSTART;TZID=America/New_York:20240422T080000
DTEND;TZID=America/New_York:20240422T170000
DTSTAMP:20260419T231925
CREATED:20240323T031934Z
LAST-MODIFIED:20240323T031934Z
UID:20380-1713772800-1713805200@www.smolakfarms.com
SUMMARY:Earth Day Celebration
DESCRIPTION:Join us and celebrate Earth Day! \nTickets are $15 (per child and one adult) and include a reading of ‘Happy Earth Day’\, a earth themed craft\, your very own edible “cup of dirt” \, and some animal feed to give to the friendly farm animals.
URL:https://www.smolakfarms.com/event/earth-day-celebration
LOCATION:Smolak Farms\, 315 South Bradford Street\, North Andover\, MA\, 01845\, United States
CATEGORIES:Education,Festivals / Kids Activities
ATTACH;FMTTYPE=image/png:https://www.smolakfarms.com/wp-content/uploads/2024/03/7.png
END:VEVENT
BEGIN:VEVENT
DTSTART;TZID=America/New_York:20240419T100000
DTEND;TZID=America/New_York:20240419T140000
DTSTAMP:20260419T231925
CREATED:20240415T155017Z
LAST-MODIFIED:20240415T155017Z
UID:20591-1713520800-1713535200@www.smolakfarms.com
SUMMARY:Hop-On Hayrides
DESCRIPTION:Take a scenic trip around the farm with us. We will be offering Hop-On Hayrides this week on Monday (4/15)\, Wednesday (4/17)\, and Friday (4/19). Rides will be available on those days from 10am to 2pm. Tickets are $7 per person and can be purchased inside the Farm Stand.
URL:https://www.smolakfarms.com/event/hop-on-hayrides-32
LOCATION:Smolak Farms\, 315 South Bradford Street\, North Andover\, MA\, 01845\, United States
CATEGORIES:Festivals / Kids Activities
ATTACH;FMTTYPE=image/png:https://www.smolakfarms.com/wp-content/uploads/2024/04/2022-Halloween-Theme.png
END:VEVENT
BEGIN:VEVENT
DTSTART;TZID=America/New_York:20240418T100000
DTEND;TZID=America/New_York:20240418T110000
DTSTAMP:20260419T231925
CREATED:20240323T031743Z
LAST-MODIFIED:20240323T031812Z
UID:20378-1713434400-1713438000@www.smolakfarms.com
SUMMARY:April Break Activity: Pinwheels
DESCRIPTION:Join us for one of our most famous April Break activities: Pinwheels! \nTickets are $15 (per child and one adult) and include a donut\, all the supplies you need to decorate and create a pinwheel\, a 10% off coupon for the farmstand\, and some animal feed to give to the friendly farm animals. \n*Each child will be given the materials to make one pinwheel. Colors and materials will vary*
URL:https://www.smolakfarms.com/event/april-break-activity-pinwheels
LOCATION:Smolak Farms\, 315 South Bradford Street\, North Andover\, MA\, 01845\, United States
CATEGORIES:Farm Stand,Festivals / Kids Activities
ATTACH;FMTTYPE=image/png:https://www.smolakfarms.com/wp-content/uploads/2024/03/5.png
END:VEVENT
BEGIN:VEVENT
DTSTART;TZID=America/New_York:20240417T100000
DTEND;TZID=America/New_York:20240417T140000
DTSTAMP:20260419T231925
CREATED:20240415T154959Z
LAST-MODIFIED:20240415T154959Z
UID:20589-1713348000-1713362400@www.smolakfarms.com
SUMMARY:Hop-On Hayrides
DESCRIPTION:Take a scenic trip around the farm with us. We will be offering Hop-On Hayrides this week on Monday (4/15)\, Wednesday (4/17)\, and Friday (4/19). Rides will be available on those days from 10am to 2pm. Tickets are $7 per person and can be purchased inside the Farm Stand.
URL:https://www.smolakfarms.com/event/hop-on-hayrides-31
LOCATION:Smolak Farms\, 315 South Bradford Street\, North Andover\, MA\, 01845\, United States
CATEGORIES:Festivals / Kids Activities
ATTACH;FMTTYPE=image/png:https://www.smolakfarms.com/wp-content/uploads/2024/04/2022-Halloween-Theme.png
END:VEVENT
BEGIN:VEVENT
DTSTART;TZID=America/New_York:20240417T100000
DTEND;TZID=America/New_York:20240417T110000
DTSTAMP:20260419T231925
CREATED:20240323T031626Z
LAST-MODIFIED:20240323T031626Z
UID:20375-1713348000-1713351600@www.smolakfarms.com
SUMMARY:April Break Activity: Pajama Party
DESCRIPTION:Join us for one of our most famous April Break Activities: Pajama Party Day! \nTickets are $16 (per child and one adult) and include 2 pancakes\, access to our pancake topping station\, a DIY sleep mask\, a 10% off coupon for the farmstand\, and some animal feed to give to the friendly farm animals. \n*Wearing your pajamas is highly encouraged* \n*Each child will be given the materials to make one sleep mask. Colors and materials will vary*
URL:https://www.smolakfarms.com/event/april-break-activity-pajama-party
LOCATION:Smolak Farms\, 315 South Bradford Street\, North Andover\, MA\, 01845\, United States
CATEGORIES:Farm Stand,Festivals / Kids Activities
ATTACH;FMTTYPE=image/png:https://www.smolakfarms.com/wp-content/uploads/2024/03/Hop-On-Yoga-Instagram-Post2.png
END:VEVENT
BEGIN:VEVENT
DTSTART;TZID=America/New_York:20240416T100000
DTEND;TZID=America/New_York:20240416T110000
DTSTAMP:20260419T231925
CREATED:20240323T031041Z
LAST-MODIFIED:20240323T031041Z
UID:20358-1713261600-1713265200@www.smolakfarms.com
SUMMARY:April Break Activity: Birdhouses
DESCRIPTION:Join us for one of our most famous April Break activities: Birdhouses! \nTickets are $15 (per child and one adult) and include a donut\, a wooden birdhouse\, all of the supplies you need to decorate them\, a 10% off coupon for the farmstand\, and some animal feed to give to the friendly farm animals. \n*Each child will be given the materials to make one birdhouse. Colors and materials will vary*
URL:https://www.smolakfarms.com/event/april-break-activity-birdhouses
LOCATION:Smolak Farms\, 315 South Bradford Street\, North Andover\, MA\, 01845\, United States
CATEGORIES:Education,Festivals / Kids Activities
ATTACH;FMTTYPE=image/png:https://www.smolakfarms.com/wp-content/uploads/2024/03/3-1.png
END:VEVENT
BEGIN:VEVENT
DTSTART;TZID=America/New_York:20240415T100000
DTEND;TZID=America/New_York:20240415T140000
DTSTAMP:20260419T231925
CREATED:20240415T154515Z
LAST-MODIFIED:20240415T154934Z
UID:20586-1713175200-1713189600@www.smolakfarms.com
SUMMARY:Hop-On Hayrides
DESCRIPTION:Take a scenic trip around the farm with us. We will be offering Hop-On Hayrides this week on Monday (4/15)\, Wednesday (4/17)\, and Friday (4/19). Rides will be available on those days from 10am to 2pm. Tickets are $7 per person and can be purchased inside the Farm Stand.
URL:https://www.smolakfarms.com/event/hop-on-hayrides-30
LOCATION:Smolak Farms\, 315 South Bradford Street\, North Andover\, MA\, 01845\, United States
CATEGORIES:Festivals / Kids Activities
ATTACH;FMTTYPE=image/png:https://www.smolakfarms.com/wp-content/uploads/2024/04/2022-Halloween-Theme.png
END:VEVENT
BEGIN:VEVENT
DTSTART;TZID=America/New_York:20240415T100000
DTEND;TZID=America/New_York:20240415T110000
DTSTAMP:20260419T231925
CREATED:20240323T031312Z
LAST-MODIFIED:20240323T031312Z
UID:20373-1713175200-1713178800@www.smolakfarms.com
SUMMARY:April Break Activity: DIY Playdough
DESCRIPTION:Join us for another one of our popular April Break Activities! We’ll be reading ‘Mixed: A Colorful Story’ and making some playdough. \nTickets are $15 (per child and one adult) and include a donut\, story\, a 10% off coupon for the farmstand\, a chance to make your very own playdough\, and animal feed to give to the friendly farm animals in our animal area. \nEach child will be given enough materials to create 1 handful of playdough. Colors may vary.
URL:https://www.smolakfarms.com/event/april-break-activity-diy-playdough
LOCATION:Smolak Farms\, 315 South Bradford Street\, North Andover\, MA\, 01845\, United States
CATEGORIES:Education,Festivals / Kids Activities
ATTACH;FMTTYPE=image/png:https://www.smolakfarms.com/wp-content/uploads/2024/03/4-2.png
END:VEVENT
BEGIN:VEVENT
DTSTART;TZID=America/New_York:20240327T100000
DTEND;TZID=America/New_York:20240327T110000
DTSTAMP:20260419T231925
CREATED:20240322T185938Z
LAST-MODIFIED:20240322T185938Z
UID:20346-1711533600-1711537200@www.smolakfarms.com
SUMMARY:Easter Winnie the Pooh Story & Craft
DESCRIPTION:Join us for another edition of our popular Story & Craft event! We’ll be reading ‘Pooh the Very Best Easter Bunny’ and making a Winnie the Pooh Craft Easter Craft\, and get a visit from our the friendly Pooh Bear himself. \nTickets are $12 (per child and one adult) and include a donut\, story and craft\, and animal feed to give to the friendly farm animals in our animal area.
URL:https://www.smolakfarms.com/event/easter-winnie-the-pooh-story-craft
LOCATION:Smolak Farms\, 315 South Bradford Street\, North Andover\, MA\, 01845\, United States
CATEGORIES:Farm Stand,Festivals / Kids Activities
ATTACH;FMTTYPE=image/png:https://www.smolakfarms.com/wp-content/uploads/2024/03/4-1.png
END:VEVENT
BEGIN:VEVENT
DTSTART;TZID=America/New_York:20240317T103000
DTEND;TZID=America/New_York:20240317T133000
DTSTAMP:20260419T231925
CREATED:20240219T022658Z
LAST-MODIFIED:20240316T193435Z
UID:20112-1710671400-1710682200@www.smolakfarms.com
SUMMARY:Easter Egg Hunt: March 17th
DESCRIPTION:Our Easter Egg Hunts are sold out! Due to the popularity of the event\, tickets are non-refundable and nontransferable and no walk ins are available. \nIf you did purchase tickets\, please e sure to double check you have selected the correct date and time.
URL:https://www.smolakfarms.com/event/easter-egg-hunt-march-17th
LOCATION:MA
CATEGORIES:Education,Festivals / Kids Activities
ATTACH;FMTTYPE=image/png:https://www.smolakfarms.com/wp-content/uploads/2024/02/1-1.png
END:VEVENT
BEGIN:VEVENT
DTSTART;TZID=America/New_York:20240316T103000
DTEND;TZID=America/New_York:20240316T133000
DTSTAMP:20260419T231925
CREATED:20240219T022617Z
LAST-MODIFIED:20240316T193452Z
UID:20110-1710585000-1710595800@www.smolakfarms.com
SUMMARY:Easter Egg Hunt: March 16th
DESCRIPTION:Our Easter Egg Hunts are sold out! Due to the popularity of the event\, tickets are non-refundable and nontransferable and no walk ins are available. \nIf you did purchase tickets\, please e sure to double check you have selected the correct date and time.
URL:https://www.smolakfarms.com/event/easter-egg-hunt-march-16th
LOCATION:MA
CATEGORIES:Education,Festivals / Kids Activities
ATTACH;FMTTYPE=image/png:https://www.smolakfarms.com/wp-content/uploads/2024/02/1-1.png
END:VEVENT
BEGIN:VEVENT
DTSTART;TZID=America/New_York:20240316T083000
DTEND;TZID=America/New_York:20240316T093000
DTSTAMP:20260419T231925
CREATED:20240219T021627Z
LAST-MODIFIED:20240219T021627Z
UID:20090-1710577800-1710581400@www.smolakfarms.com
SUMMARY:Breakfast with the Bunny
DESCRIPTION:Join us from 8:30am to 10am for a delicious and fun filled Breakfast with the Bunny at Smolak Farms. \nTickets are $20 for children and adults and include the following; \n\nCharacter Breakfast experience with the Easter Bunny\nChoice of 1 Farm Fresh Breakfast Sandwich (bacon\, egg\, and cheese on a bagel OR sausage\, egg\, and cheese on a bagel) \n\n** Selections will be made at the time of the event \n** Sorry\, no substitutions available \n\n 1 Famous Smolak Farms Cinnamon Sugar Donut\n 1 Small Fruit Cup\nChoice of 1 Drink (orange juice or apple juice)\n\nAll tickets must be pre-purchased\, no walk-ins or additional tickets will be available at the event.
URL:https://www.smolakfarms.com/event/breakfast-with-the-bunny-2
LOCATION:Smolak Farms\, 315 South Bradford Street\, North Andover\, MA\, 01845\, United States
CATEGORIES:Education,Farm Stand,Festivals / Kids Activities
ATTACH;FMTTYPE=image/png:https://www.smolakfarms.com/wp-content/uploads/2024/02/Smolak_Easter1.png
END:VEVENT
END:VCALENDAR